Package: alabaster.spatial Version: 1.6.1 Command: F:\biocbuild\bbs-3.20-bioc\R\bin\R.exe CMD INSTALL alabaster.spatial StartedAt: 2025-02-03 17:11:14 -0500 (Mon, 03 Feb 2025) EndedAt: 2025-02-03 17:11:56 -0500 (Mon, 03 Feb 2025) EllapsedTime: 42.1 seconds RetCode: 0 Status: OK