Package: alabaster.spatial Version: 1.6.1 Command: /home/biocbuild/R/R/bin/R CMD INSTALL alabaster.spatial StartedAt: 2025-02-03 21:18:05 -0000 (Mon, 03 Feb 2025) EndedAt: 2025-02-03 21:18:39 -0000 (Mon, 03 Feb 2025) EllapsedTime: 34.5 seconds RetCode: 0 Status: OK