Package: alabaster.string Version: 1.6.0 Command: /Library/Frameworks/R.framework/Resources/bin/R CMD build --keep-empty-dirs --no-resave-data alabaster.string StartedAt: 2025-02-10 18:42:02 -0500 (Mon, 10 Feb 2025) EndedAt: 2025-02-10 18:42:21 -0500 (Mon, 10 Feb 2025) EllapsedTime: 19.5 seconds RetCode: 0 Status: OK PackageFile: alabaster.string_1.6.0.tar.gz PackageFileSize: 220.2 KiB