Package: alabaster.string Version: 1.6.0 Command: /Library/Frameworks/R.framework/Resources/bin/R CMD INSTALL alabaster.string StartedAt: 2025-02-03 15:25:05 -0500 (Mon, 03 Feb 2025) EndedAt: 2025-02-03 15:25:30 -0500 (Mon, 03 Feb 2025) EllapsedTime: 24.8 seconds RetCode: 0 Status: OK