Package: alabaster.string Version: 1.6.0 Command: /home/biocbuild/bbs-3.20-bioc/R/bin/R CMD build --keep-empty-dirs --no-resave-data --md5 alabaster.string StartedAt: 2025-02-03 16:18:46 -0500 (Mon, 03 Feb 2025) EndedAt: 2025-02-03 16:19:05 -0500 (Mon, 03 Feb 2025) EllapsedTime: 19.0 seconds RetCode: 0 Status: OK PackageFile: alabaster.string_1.6.0.tar.gz PackageFileSize: 220.8 KiB