Package: alabaster.string Version: 1.6.0 Command: F:\biocbuild\bbs-3.20-bioc\R\bin\R.exe CMD INSTALL alabaster.string StartedAt: 2025-02-03 15:54:20 -0500 (Mon, 03 Feb 2025) EndedAt: 2025-02-03 15:54:51 -0500 (Mon, 03 Feb 2025) EllapsedTime: 30.8 seconds RetCode: 0 Status: OK