Package: alabaster.vcf Version: 1.6.0 Command: /home/biocbuild/R/R/bin/R CMD build --keep-empty-dirs --no-resave-data alabaster.vcf StartedAt: 2024-11-19 22:43:51 -0000 (Tue, 19 Nov 2024) EndedAt: 2024-11-19 22:45:19 -0000 (Tue, 19 Nov 2024) EllapsedTime: 88.1 seconds RetCode: 0 Status: OK PackageFile: alabaster.vcf_1.6.0.tar.gz PackageFileSize: 247.2 KiB