Package: alabaster.vcf Version: 1.6.0 Command: /Library/Frameworks/R.framework/Resources/bin/R CMD INSTALL alabaster.vcf StartedAt: 2025-02-03 16:40:48 -0500 (Mon, 03 Feb 2025) EndedAt: 2025-02-03 16:42:17 -0500 (Mon, 03 Feb 2025) EllapsedTime: 88.5 seconds RetCode: 0 Status: OK