Package: alabaster.vcf Version: 1.6.0 Command: /home/biocbuild/bbs-3.20-bioc/R/bin/R CMD build --keep-empty-dirs --no-resave-data --md5 alabaster.vcf StartedAt: 2025-02-03 16:18:49 -0500 (Mon, 03 Feb 2025) EndedAt: 2025-02-03 16:20:00 -0500 (Mon, 03 Feb 2025) EllapsedTime: 71.1 seconds RetCode: 0 Status: OK PackageFile: alabaster.vcf_1.6.0.tar.gz PackageFileSize: 223.6 KiB