Package: alabaster.vcf Version: 1.6.0 Command: /home/biocbuild/bbs-3.20-bioc/R/bin/R CMD check --install=check:alabaster.vcf.install-out.txt --library=/home/biocbuild/bbs-3.20-bioc/R/site-library --timings alabaster.vcf_1.6.0.tar.gz StartedAt: 2025-02-03 19:59:36 -0500 (Mon, 03 Feb 2025) EndedAt: 2025-02-03 20:05:26 -0500 (Mon, 03 Feb 2025) EllapsedTime: 349.5 seconds RetCode: 0 Status: OK CheckDir: alabaster.vcf.Rcheck Warnings: 0