Package: alabaster.vcf Version: 1.6.0 Command: /home/biocbuild/bbs-3.20-bioc/R/bin/R CMD INSTALL alabaster.vcf StartedAt: 2025-02-03 16:03:58 -0500 (Mon, 03 Feb 2025) EndedAt: 2025-02-03 16:04:44 -0500 (Mon, 03 Feb 2025) EllapsedTime: 46.4 seconds RetCode: 0 Status: OK