Package: alabaster.vcf Version: 1.6.0 Command: F:\biocbuild\bbs-3.20-bioc\R\bin\R.exe CMD check --no-multiarch --install=check:alabaster.vcf.install-out.txt --library=F:\biocbuild\bbs-3.20-bioc\R\library --no-vignettes --timings alabaster.vcf_1.6.0.tar.gz StartedAt: 2025-02-03 23:04:22 -0500 (Mon, 03 Feb 2025) EndedAt: 2025-02-03 23:11:16 -0500 (Mon, 03 Feb 2025) EllapsedTime: 414.0 seconds RetCode: 0 Status: OK CheckDir: alabaster.vcf.Rcheck Warnings: 0