Package: alabaster Version: 1.6.0 Command: /Library/Frameworks/R.framework/Resources/bin/R CMD build --keep-empty-dirs --no-resave-data alabaster StartedAt: 2025-02-03 18:30:39 -0500 (Mon, 03 Feb 2025) EndedAt: 2025-02-03 18:31:38 -0500 (Mon, 03 Feb 2025) EllapsedTime: 58.4 seconds RetCode: 0 Status: OK PackageFile: alabaster_1.6.0.tar.gz PackageFileSize: 215.5 KiB