Package: alabaster Version: 1.6.0 Command: rm -rf alabaster.buildbin-libdir && mkdir alabaster.buildbin-libdir && /Users/biocbuild/BBS/utils/build-universal.sh alabaster_1.6.0.tar.gz /Library/Frameworks/R.framework/Resources/bin/R alabaster.buildbin-libdir StartedAt: 2025-02-11 12:40:25 -0500 (Tue, 11 Feb 2025) EndedAt: 2025-02-11 12:42:06 -0500 (Tue, 11 Feb 2025) EllapsedTime: 101.3 seconds RetCode: 0 Status: OK PackageFile: alabaster_1.6.0.tgz PackageFileSize: 221.2 KiB