Package: alabaster Version: 1.6.0 Command: chmod a+r alabaster -R && F:\biocbuild\bbs-3.20-bioc\R\bin\R.exe CMD build --keep-empty-dirs --no-resave-data alabaster StartedAt: 2025-02-10 17:19:58 -0500 (Mon, 10 Feb 2025) EndedAt: 2025-02-10 17:21:02 -0500 (Mon, 10 Feb 2025) EllapsedTime: 64.2 seconds RetCode: 0 Status: OK PackageFile: alabaster_1.6.0.tar.gz PackageFileSize: 215.6 KiB