Package: alabaster Version: 1.6.0 Command: /home/biocbuild/R/R/bin/R CMD build --keep-empty-dirs --no-resave-data alabaster StartedAt: 2025-02-10 21:17:21 -0000 (Mon, 10 Feb 2025) EndedAt: 2025-02-10 21:18:18 -0000 (Mon, 10 Feb 2025) EllapsedTime: 57.0 seconds RetCode: 0 Status: OK PackageFile: alabaster_1.6.0.tar.gz PackageFileSize: 239 KiB