Package: alabaster Version: 1.6.0 Command: /home/biocbuild/R/R/bin/R CMD INSTALL alabaster StartedAt: 2025-02-10 21:02:16 -0000 (Mon, 10 Feb 2025) EndedAt: 2025-02-10 21:03:14 -0000 (Mon, 10 Feb 2025) EllapsedTime: 57.7 seconds RetCode: 0 Status: OK