Package: alevinQC Version: 1.22.0 Command: /Library/Frameworks/R.framework/Resources/bin/R CMD build --keep-empty-dirs --no-resave-data alevinQC StartedAt: 2025-02-03 18:32:44 -0500 (Mon, 03 Feb 2025) EndedAt: 2025-02-03 18:33:36 -0500 (Mon, 03 Feb 2025) EllapsedTime: 51.4 seconds RetCode: 0 Status: OK PackageFile: alevinQC_1.22.0.tar.gz PackageFileSize: 7.607 MiB