Package: alevinQC Version: 1.22.0 Command: chmod a+r alevinQC -R && F:\biocbuild\bbs-3.20-bioc\R\bin\R.exe CMD build --keep-empty-dirs --no-resave-data alevinQC StartedAt: 2025-02-10 17:21:04 -0500 (Mon, 10 Feb 2025) EndedAt: 2025-02-10 17:22:06 -0500 (Mon, 10 Feb 2025) EllapsedTime: 62.0 seconds RetCode: 0 Status: OK PackageFile: alevinQC_1.22.0.tar.gz PackageFileSize: 7.309 MiB