Package: alevinQC Version: 1.22.0 Command: /home/biocbuild/R/R/bin/R CMD build --keep-empty-dirs --no-resave-data alevinQC StartedAt: 2025-02-10 21:18:28 -0000 (Mon, 10 Feb 2025) EndedAt: 2025-02-10 21:19:16 -0000 (Mon, 10 Feb 2025) EllapsedTime: 48.0 seconds RetCode: 0 Status: OK PackageFile: alevinQC_1.22.0.tar.gz PackageFileSize: 7.378 MiB