Package: altcdfenvs Version: 2.68.0 Command: rm -rf altcdfenvs.buildbin-libdir && mkdir altcdfenvs.buildbin-libdir && /Users/biocbuild/BBS/utils/build-universal.sh altcdfenvs_2.68.0.tar.gz /Library/Frameworks/R.framework/Resources/bin/R altcdfenvs.buildbin-libdir StartedAt: 2025-02-05 14:46:56 -0500 (Wed, 05 Feb 2025) EndedAt: 2025-02-05 14:47:15 -0500 (Wed, 05 Feb 2025) EllapsedTime: 19.3 seconds RetCode: 0 Status: OK PackageFile: altcdfenvs_2.68.0.tgz PackageFileSize: 1.095 MiB