Package: altcdfenvs Version: 2.68.0 Command: /Library/Frameworks/R.framework/Resources/bin/R CMD build --keep-empty-dirs --no-resave-data altcdfenvs StartedAt: 2025-02-03 18:34:25 -0500 (Mon, 03 Feb 2025) EndedAt: 2025-02-03 18:35:01 -0500 (Mon, 03 Feb 2025) EllapsedTime: 36.8 seconds RetCode: 0 Status: OK PackageFile: altcdfenvs_2.68.0.tar.gz PackageFileSize: 668.4 KiB