Package: altcdfenvs Version: 2.68.0 Command: /Library/Frameworks/R.framework/Resources/bin/R CMD INSTALL altcdfenvs StartedAt: 2025-02-10 15:21:30 -0500 (Mon, 10 Feb 2025) EndedAt: 2025-02-10 15:21:47 -0500 (Mon, 10 Feb 2025) EllapsedTime: 17.3 seconds RetCode: 0 Status: OK