Package: altcdfenvs Version: 2.68.0 Command: /Library/Frameworks/R.framework/Resources/bin/R CMD check --install=check:altcdfenvs.install-out.txt --library=/Library/Frameworks/R.framework/Resources/library --no-vignettes --timings altcdfenvs_2.68.0.tar.gz StartedAt: 2025-02-10 23:35:56 -0500 (Mon, 10 Feb 2025) EndedAt: 2025-02-10 23:39:38 -0500 (Mon, 10 Feb 2025) EllapsedTime: 221.9 seconds RetCode: 0 Status: OK CheckDir: altcdfenvs.Rcheck Warnings: 0