Package: altcdfenvs Version: 2.68.0 Command: /Library/Frameworks/R.framework/Resources/bin/R CMD INSTALL altcdfenvs StartedAt: 2025-02-10 15:13:47 -0500 (Mon, 10 Feb 2025) EndedAt: 2025-02-10 15:14:22 -0500 (Mon, 10 Feb 2025) EllapsedTime: 34.4 seconds RetCode: 0 Status: OK