Package: altcdfenvs Version: 2.68.0 Command: /home/biocbuild/bbs-3.20-bioc/R/bin/R CMD build --keep-empty-dirs --no-resave-data --md5 altcdfenvs StartedAt: 2025-02-03 16:19:05 -0500 (Mon, 03 Feb 2025) EndedAt: 2025-02-03 16:19:58 -0500 (Mon, 03 Feb 2025) EllapsedTime: 53.1 seconds RetCode: 0 Status: OK PackageFile: altcdfenvs_2.68.0.tar.gz PackageFileSize: 670 KiB