Package: altcdfenvs Version: 2.68.0 Command: chmod a+r altcdfenvs -R && F:\biocbuild\bbs-3.20-bioc\R\bin\R.exe CMD build --keep-empty-dirs --no-resave-data altcdfenvs StartedAt: 2025-02-03 17:27:53 -0500 (Mon, 03 Feb 2025) EndedAt: 2025-02-03 17:29:36 -0500 (Mon, 03 Feb 2025) EllapsedTime: 103.4 seconds RetCode: 0 Status: OK PackageFile: altcdfenvs_2.68.0.tar.gz PackageFileSize: 324.9 KiB