Package: altcdfenvs Version: 2.68.0 Command: F:\biocbuild\bbs-3.20-bioc\R\bin\R.exe CMD INSTALL altcdfenvs StartedAt: 2025-02-03 15:51:07 -0500 (Mon, 03 Feb 2025) EndedAt: 2025-02-03 15:51:58 -0500 (Mon, 03 Feb 2025) EllapsedTime: 51.9 seconds RetCode: 0 Status: OK