Package: altcdfenvs Version: 2.68.0 Command: /home/biocbuild/R/R/bin/R CMD build --keep-empty-dirs --no-resave-data altcdfenvs StartedAt: 2025-02-03 21:34:48 -0000 (Mon, 03 Feb 2025) EndedAt: 2025-02-03 21:35:45 -0000 (Mon, 03 Feb 2025) EllapsedTime: 57.0 seconds RetCode: 0 Status: OK PackageFile: altcdfenvs_2.68.0.tar.gz PackageFileSize: 648.3 KiB