Package: altcdfenvs Version: 2.68.0 Command: /home/biocbuild/R/R/bin/R CMD check --install=check:altcdfenvs.install-out.txt --library=/home/biocbuild/R/R/site-library --no-vignettes --timings altcdfenvs_2.68.0.tar.gz StartedAt: 2025-02-04 04:17:00 -0000 (Tue, 04 Feb 2025) EndedAt: 2025-02-04 04:19:34 -0000 (Tue, 04 Feb 2025) EllapsedTime: 153.4 seconds RetCode: 0 Status: OK CheckDir: altcdfenvs.Rcheck Warnings: 0