Package: altcdfenvs Version: 2.68.0 Command: /home/biocbuild/R/R/bin/R CMD INSTALL altcdfenvs StartedAt: 2025-02-03 20:29:53 -0000 (Mon, 03 Feb 2025) EndedAt: 2025-02-03 20:30:11 -0000 (Mon, 03 Feb 2025) EllapsedTime: 18.4 seconds RetCode: 0 Status: OK