Package: amplican Version: 1.28.0 Maintainer: Eivind Valen MaintainerEmail: eivind.valen at gmail.com git_url: https://git.bioconductor.org/packages/amplican git_branch: RELEASE_3_20 git_last_commit: 67f2ecd git_last_commit_date: 2024-10-29 10:22:13 -0500 (Tue, 29 Oct 2024)