Package: amplican Version: 1.28.0 Command: /Library/Frameworks/R.framework/Resources/bin/R CMD build --keep-empty-dirs --no-resave-data amplican StartedAt: 2025-01-30 18:45:53 -0500 (Thu, 30 Jan 2025) EndedAt: 2025-01-30 18:46:48 -0500 (Thu, 30 Jan 2025) EllapsedTime: 55.3 seconds RetCode: 0 Status: OK PackageFile: amplican_1.28.0.tar.gz PackageFileSize: 10.96 MiB