Package: amplican Version: 1.28.0 Command: /Library/Frameworks/R.framework/Resources/bin/R CMD build --keep-empty-dirs --no-resave-data amplican StartedAt: 2025-02-03 17:01:41 -0500 (Mon, 03 Feb 2025) EndedAt: 2025-02-03 17:05:05 -0500 (Mon, 03 Feb 2025) EllapsedTime: 203.5 seconds RetCode: 0 Status: OK PackageFile: amplican_1.28.0.tar.gz PackageFileSize: 10.95 MiB