Package: amplican Version: 1.28.0 Command: rm -rf amplican.buildbin-libdir && mkdir amplican.buildbin-libdir && F:\biocbuild\bbs-3.20-bioc\R\bin\R.exe CMD INSTALL --build --library=amplican.buildbin-libdir amplican_1.28.0.tar.gz StartedAt: 2025-01-31 08:08:01 -0500 (Fri, 31 Jan 2025) EndedAt: 2025-01-31 08:09:27 -0500 (Fri, 31 Jan 2025) EllapsedTime: 85.6 seconds RetCode: 0 Status: OK PackageFile: amplican_1.28.0.zip PackageFileSize: 5.555 MiB