Package: amplican Version: 1.28.0 Command: /home/biocbuild/R/R/bin/R CMD build --keep-empty-dirs --no-resave-data amplican StartedAt: 2025-01-30 21:30:10 -0000 (Thu, 30 Jan 2025) EndedAt: 2025-01-30 21:32:27 -0000 (Thu, 30 Jan 2025) EllapsedTime: 137.1 seconds RetCode: 0 Status: OK PackageFile: amplican_1.28.0.tar.gz PackageFileSize: 7.662 MiB