Package: amplican Version: 1.28.0 Command: /home/biocbuild/R/R/bin/R CMD check --install=check:amplican.install-out.txt --library=/home/biocbuild/R/R/site-library --no-vignettes --timings amplican_1.28.0.tar.gz StartedAt: 2025-01-31 03:47:04 -0000 (Fri, 31 Jan 2025) EndedAt: 2025-01-31 03:50:57 -0000 (Fri, 31 Jan 2025) EllapsedTime: 232.4 seconds RetCode: 0 Status: OK CheckDir: amplican.Rcheck Warnings: 0