Package: amplican Version: 1.28.0 Command: /home/biocbuild/R/R/bin/R CMD INSTALL amplican StartedAt: 2025-01-30 20:38:15 -0000 (Thu, 30 Jan 2025) EndedAt: 2025-01-30 20:38:44 -0000 (Thu, 30 Jan 2025) EllapsedTime: 29.2 seconds RetCode: 0 Status: OK