Package: annaffy Version: 1.78.0 Command: rm -rf annaffy.buildbin-libdir && mkdir annaffy.buildbin-libdir && /Users/biocbuild/BBS/utils/build-universal.sh annaffy_1.78.0.tar.gz /Library/Frameworks/R.framework/Resources/bin/R annaffy.buildbin-libdir StartedAt: 2025-02-05 14:47:36 -0500 (Wed, 05 Feb 2025) EndedAt: 2025-02-05 14:47:57 -0500 (Wed, 05 Feb 2025) EllapsedTime: 21.5 seconds RetCode: 0 Status: OK PackageFile: annaffy_1.78.0.tgz PackageFileSize: 696 KiB