Package: annaffy Version: 1.78.0 Command: /Library/Frameworks/R.framework/Resources/bin/R CMD check --install=check:annaffy.install-out.txt --library=/Library/Frameworks/R.framework/Resources/library --no-vignettes --timings annaffy_1.78.0.tar.gz StartedAt: 2025-02-04 11:14:51 -0500 (Tue, 04 Feb 2025) EndedAt: 2025-02-04 11:16:58 -0500 (Tue, 04 Feb 2025) EllapsedTime: 127.3 seconds RetCode: 0 Status: WARNINGS CheckDir: annaffy.Rcheck Warnings: 1