Package: annaffy Version: 1.78.0 Command: rm -rf annaffy.buildbin-libdir && mkdir annaffy.buildbin-libdir && /Users/biocbuild/BBS/utils/build-universal.sh annaffy_1.78.0.tar.gz /Library/Frameworks/R.framework/Resources/bin/R annaffy.buildbin-libdir StartedAt: 2025-02-04 12:27:24 -0500 (Tue, 04 Feb 2025) EndedAt: 2025-02-04 12:28:04 -0500 (Tue, 04 Feb 2025) EllapsedTime: 40.2 seconds RetCode: 0 Status: OK PackageFile: annaffy_1.78.0.tgz PackageFileSize: 695.5 KiB