Package: annaffy Version: 1.78.0 Command: /home/biocbuild/bbs-3.20-bioc/R/bin/R CMD INSTALL annaffy StartedAt: 2025-02-10 15:24:54 -0500 (Mon, 10 Feb 2025) EndedAt: 2025-02-10 15:25:09 -0500 (Mon, 10 Feb 2025) EllapsedTime: 15.6 seconds RetCode: 0 Status: OK