Package: annaffy Version: 1.78.0 Command: F:\biocbuild\bbs-3.20-bioc\R\bin\R.exe CMD check --no-multiarch --install=check:annaffy.install-out.txt --library=F:\biocbuild\bbs-3.20-bioc\R\library --no-vignettes --timings annaffy_1.78.0.tar.gz StartedAt: 2025-02-03 23:07:47 -0500 (Mon, 03 Feb 2025) EndedAt: 2025-02-03 23:10:08 -0500 (Mon, 03 Feb 2025) EllapsedTime: 140.6 seconds RetCode: 0 Status: WARNINGS CheckDir: annaffy.Rcheck Warnings: 1