Package: annaffy Version: 1.78.0 Command: F:\biocbuild\bbs-3.20-bioc\R\bin\R.exe CMD INSTALL annaffy StartedAt: 2025-02-03 15:58:03 -0500 (Mon, 03 Feb 2025) EndedAt: 2025-02-03 15:58:46 -0500 (Mon, 03 Feb 2025) EllapsedTime: 43.0 seconds RetCode: 0 Status: OK