Package: anota Version: 1.54.0 Command: rm -rf anota.buildbin-libdir && mkdir anota.buildbin-libdir && /Users/biocbuild/BBS/utils/build-universal.sh anota_1.54.0.tar.gz /Library/Frameworks/R.framework/Resources/bin/R anota.buildbin-libdir StartedAt: 2025-02-01 13:53:18 -0500 (Sat, 01 Feb 2025) EndedAt: 2025-02-01 13:53:30 -0500 (Sat, 01 Feb 2025) EllapsedTime: 12.6 seconds RetCode: 0 Status: OK PackageFile: anota_1.54.0.tgz PackageFileSize: 712.8 KiB