Package: anota Version: 1.54.0 Command: /Library/Frameworks/R.framework/Resources/bin/R CMD build --keep-empty-dirs --no-resave-data anota StartedAt: 2025-01-30 18:51:07 -0500 (Thu, 30 Jan 2025) EndedAt: 2025-01-30 18:51:39 -0500 (Thu, 30 Jan 2025) EllapsedTime: 32.0 seconds RetCode: 0 Status: OK PackageFile: anota_1.54.0.tar.gz PackageFileSize: 943.2 KiB