Package: anota Version: 1.54.0 Command: /Library/Frameworks/R.framework/Resources/bin/R CMD INSTALL anota StartedAt: 2025-01-30 17:29:29 -0500 (Thu, 30 Jan 2025) EndedAt: 2025-01-30 17:29:40 -0500 (Thu, 30 Jan 2025) EllapsedTime: 10.9 seconds RetCode: 0 Status: OK