Package: anota Version: 1.54.0 Command: /Library/Frameworks/R.framework/Resources/bin/R CMD INSTALL anota StartedAt: 2025-01-30 16:22:32 -0500 (Thu, 30 Jan 2025) EndedAt: 2025-01-30 16:22:53 -0500 (Thu, 30 Jan 2025) EllapsedTime: 21.4 seconds RetCode: 0 Status: OK