Package: anota Version: 1.54.0 Command: chmod a+r anota -R && F:\biocbuild\bbs-3.20-bioc\R\bin\R.exe CMD build --keep-empty-dirs --no-resave-data anota StartedAt: 2025-01-30 17:18:00 -0500 (Thu, 30 Jan 2025) EndedAt: 2025-01-30 17:18:44 -0500 (Thu, 30 Jan 2025) EllapsedTime: 43.4 seconds RetCode: 0 Status: OK PackageFile: anota_1.54.0.tar.gz PackageFileSize: 829.8 KiB