Package: anota Version: 1.54.0 Command: /home/biocbuild/R/R/bin/R CMD build --keep-empty-dirs --no-resave-data anota StartedAt: 2025-01-30 21:32:02 -0000 (Thu, 30 Jan 2025) EndedAt: 2025-01-30 21:32:35 -0000 (Thu, 30 Jan 2025) EllapsedTime: 33.0 seconds RetCode: 0 Status: OK PackageFile: anota_1.54.0.tar.gz PackageFileSize: 937.2 KiB